BEGIN:VCALENDAR
VERSION:2.0
PRODID:-//Et Zou ! SITE &amp; CAP - ECPv5.16.4//NONSGML v1.0//EN
CALSCALE:GREGORIAN
METHOD:PUBLISH
X-ORIGINAL-URL:http://etzou-sitecap.fr
X-WR-CALDESC:Events for Et Zou ! SITE &amp; CAP
REFRESH-INTERVAL;VALUE=DURATION:PT1H
X-Robots-Tag:noindex
X-PUBLISHED-TTL:PT1H
BEGIN:VTIMEZONE
TZID:Europe/Paris
BEGIN:DAYLIGHT
TZOFFSETFROM:+0100
TZOFFSETTO:+0200
TZNAME:CEST
DTSTART:20250330T010000
END:DAYLIGHT
BEGIN:STANDARD
TZOFFSETFROM:+0200
TZOFFSETTO:+0100
TZNAME:CET
DTSTART:20251026T010000
END:STANDARD
END:VTIMEZONE
BEGIN:VEVENT
DTSTART;VALUE=DATE:20251019
DTEND;VALUE=DATE:20251020
DTSTAMP:20260419T214904
CREATED:20250907T141855Z
LAST-MODIFIED:20251009T093450Z
UID:2610-1760832000-1760918399@etzou-sitecap.fr
SUMMARY:BIS'AR 2025 au HOUGA
DESCRIPTION:La communauté de communes du BAS ARMAGNAC et l’association Et Zou ! SITE&CAP\nvous proposent\, en partenariat avec \n la municipalité et les associations du HOUGA \,\nl’Office de Tourisme Armagnac & d’Artagnan–Nogaro \net le soutien  du département du GERS et de la région OCCITANIE\n  \nDimanche 19 octobre 2025 \nLE HOUGA\n (32460) \nBIS’AR\nBalade Insolite & Spectaculaire en ARmagnac !\n  \nUne jolie promenade\, entrecoupée de moments insolites et spectaculaires !\nOn plongera ensemble au cœur de l’Armagnac noir : on se glissera dans les chemins creux\, les taillis denses\, on traversera de vastes forêts de chênes\, on s’aventurera milieu des fougères\, celles qui ont donné son nom au village\, LE HOUGA\, heugar qui signifie « fougeraie » \nOn découvrira le patrimoine architectural remarquable de ce castelnau\, la tour-porche en brique de l’église Saint-Pierre\, ses vitraux et son orgue romantique\, des châteaux\, chartreuses\, maisons de maîtres\, la fontaine et le lavoir du second Empire\, on s’engagera avec courage dans la mystérieuse rue du Prince Noir… \nOn assistera à une avant-première exceptionnelle d’un chef d’œuvre du Western Spaghetti\, puis on s’étonnera sans doute devant les canards\, poules d’eau\, hérons\, aigrettes\, cormorans\, ragondins…du lac du HOUGA. \nOn testera peut-être le velo-bus en bois et on vivra un moment unique d’adoption… de parents ! \nOn écoutera quelques notes de Paul Lancôme d’Estalenx tout près de sa maison natale. On aura la chance de rencontrer une chimère hybride\, une sybiline  bête à trois têtes\, qui s’étire\, se soulève\, se retient\, trois énergies qui se nourrissent et se confrontent…\nA un moment donné\, nos doigts se seront peut-être mis à claquer\, nos jambes à frétiller\, on se sera sûrement surpris à fredonner “doo wap doo wap”… \nOn suivra Alphonse\, on écoutera le saxo\, on vibrera avec une voix tellement pénétrante\, on chantera avec des pignons chantants\, on sera  peut être surpris par un siffleur  pyrénéen… \nOn sautera\, enfin\, derrière les talanquères des arènes avant de s’émouvoir\, ou de rire jusqu’à en pleurer en écoutant un looser au grand cœur\, qui a toujours quelque chose à dire… même s’il n’y a rien à dire. \nTout au long de cette sacrément drôle de journée\, on aura marché\, gambadé\, sourit\, fredonné\, écouté\, on aura frissonné\, rit\, rencontré\, contesté\, on se sera cultivé\, on aura cheminé\, chanté\, pour être nous l’espérons\, à la fin de la journée\, véritablement enchantés ! \navec \n\n\n\n“LE MAGNIFIQUE BON A RIEN ” Compagnie “Chicken Street“ \nhttp://www.ciechickenstreet.com/le-magnifique-bon-agrave-rien.html \n“CRASSE”  Compagnie “Quand les moules auront des dents » \n“ https://www.quandlesmoulesaurontdesdents.org/crasse \n“BAKANA” Compagnie“Das Arnak“ \nhttps://www.chalondanslarue.com/prog2025/bakana/207 \n\n\n\n\n“UNE VIE DE GRENIER” Compagnie “Carnage production“ \nhttps://www.carnageproductions.fr/spectacles/vie-de-grenier/ \n\n\n\n« CABARET INSOLITE» Compagnie « Monde à Part » \nhttps://ciemondeapart.com/cabaret/ \n« GYPSY JAZZ BAND » Quartet « Pepperswing » \nhttps://pepperswing.fr/ \n  \net Alfonse\, Pignon  sur rue\, Marc et son saxo\, Camille et sa voix angélique\, Multi Fluti… \n  \nEt comme chaque fois\, il y aura de la poésie\, de l’humour\, du surréalisme\, de l’inattendu\, du pertinent et du percutant\, des insolites\, des surprises musicales\, des envolées poétiques et spectaculaires … mais on ne vous dit pas tout ! \nUne belle journée à partager !\n  \n ♦ 9h 30 Retrouvons-nous aux arènes du HOUGA  pour l’accueil de cette promenade-spectacle étonnante et émouvante\n ♦ 10h00: Départ de la promenade-spectacles\n ♦ 12h30 à 13h30 au lac du Houga : Pause repas (Pique-nique sorti de votre sac\, mais nous assurerons le transport des sacs ou des glacières avec le minibus de la ville )\n ♦ 13h30: On repart pour la suite de la promenade-spectacles\n ♦ 16h45  : Le Spectacle final sera joué aux arènes du HOUGA\nSi ce jour là\, il vous est difficile de marcher\, le minibus du Houga sera à votre service pour vous permettre de participer pleinement à la balade ! il est même possible que le vélo- bus en bois fasse partie de la fête ! Une buvette sera présente le long du parcours. \n \nRendez-vous au HOUGA  le 19 octobre 2025\npour une journée d’exception entre balades et spectacles\, partout et pour tous !\n  \nRENSEIGNEMENTS & RESERVATIONS\nOffice de Tourisme Armagnac & d’Artagnan – Nogaro \n05 62 09 13 30  \ncommunication@nogaro-tourisme.fr \n  \nEt Zou SITE &CAP \n05 62 08 43 81  \nassoetzou@gmail.com \n  \nHELLOASSO \nhttps://www.helloasso.com/associations/et-zou-site-et-cap \nCOVOITURAGE \nhttps://togetzer.com/covoiturage-evenement/k7pt6o \n  \nPARTICIPATIONS : \n Tarif plein (plus de 18 ans) : 14 €  \nTarif réduit :12 €  \nTarif enfants (de 5 ans à  11 ans et demi) : 8€ \n GRATUIT pour les moins de 5 ans \n \n 
URL:http://etzou-sitecap.fr/evenement/bisar-2025-au-houga/
LOCATION:l’OUSTALET médiathèque LE HOUGA\, salle de l'Oustalet\, médiathèque\, LE HOUGA\, 32460\, France
CATEGORIES:BIS'AR
ATTACH;FMTTYPE=image/png:http://etzou-sitecap.fr/wp-content/uploads/2025/09/BISAR-AFFICHE-LE-HOUGA-1.png
ORGANIZER;CN="Et%20Zou%21%20SITE%26CAP":MAILTO:assoetzou@gmail.com
END:VEVENT
BEGIN:VEVENT
DTSTART;TZID=Europe/Paris:20251025T203000
DTEND;TZID=Europe/Paris:20251025T220000
DTSTAMP:20260419T214904
CREATED:20251009T161234Z
LAST-MODIFIED:20251020T133712Z
UID:2672-1761424200-1761429600@etzou-sitecap.fr
SUMMARY:ANNULÉ  ! : DE RACINES A RACINES
DESCRIPTION:SPECTACLE ANNULÉ\nLuigi Rignanese a la tristesse d’annuler ce spectacle\, le  samedi 25 octobre 2025 au Houga.\nDE RACINES À RACINES\nLuigi Rignanese\ncompagnie d’A \nLe Houga  nous accueille  pour la première fois sur la scène de l’Oustalet. Après la balade BIS’AR\, Et Zou !SITE & CAP\, vous propose d’emboiter en toute confiance les pas du talentueux Luigi Rignanese\n  \n« Depuis longtemps j’avais le désir de relier à pied mes racines paternelles à mes racines maternelles\, pour combler physiquement un vide géographique entre mes deux cultures\, pour panser une énième fois les blessures d’avoir vécu étranger en France et en Italie\, je n’étais jamais d’ici\, toujours d’Ailleurs.Je vous raconterai cette expérience riche de rencontres humaines\, animales\, végétales\, minérales….. \nOn raconte qu’une randonnée ressemble au résumé d’une vie\, à l’aube des mes soixante ans\, je partagerai avec plaisir mes réflexions sur mon métier de conteur lié au chemin\, mes extases physiques au sommet d’une montagne\, les bonnes et mauvaises surprises corporelles\, les montagnes russes de mon âme et les fantômes qui (c)hantent… \n  \n\n  \nÀ la veille de ses soixante ans\, Luigi Rignanese entreprend une traversée à pied\, en solitaire\, entre ses racines italiennes et françaises : 1 200 km de marche\, de Manfredonia  à Marcoux\,  de l’ Italie des Pouilles à la France des Alpes de Haute Provence. \nUn récit sensible et poétique\, porté par sa voix\, ses musiques et ses histoires glanées en chemin\, entre rencontres\, solitude\, douleurs et émerveillements. \n \nUne randonnée intérieure et extérieure\, où l’intime rejoint l’universel. \nSpectacle tous publics à partir de 7 ans \nDurée : 1h30 \nUne proposition de  l’association Et zou ! SITE&CAP  \net de la  municipalité du HOUGA \nParticipation : 12€ / Tarif réduit : 10€ / moins de 18ans  : 8€ \nMoins de 8 ans : gratuit ! \nRENSEIGNEMENTS & RÉSERVATIONS au 05 62 08 43 81 \nassoetzou@gmail.com \npour covoiturer\, c’est ici :  \nhttps://togetzer.com/index.php?view=organiser&slug=4q3ovn
URL:http://etzou-sitecap.fr/evenement/de-racines-a-racines-luigi-rignanese/
LOCATION:l’oustalet 32460 LE HOUGA\, 1 route de Nogaro\, le houga\, 32460\, France
CATEGORIES:SAR'BI
ATTACH;FMTTYPE=image/png:http://etzou-sitecap.fr/wp-content/uploads/2025/10/ANNULe.png
END:VEVENT
END:VCALENDAR