BEGIN:VCALENDAR
VERSION:2.0
PRODID:-//Et Zou ! SITE &amp; CAP - ECPv5.16.4//NONSGML v1.0//EN
CALSCALE:GREGORIAN
METHOD:PUBLISH
X-WR-CALNAME:Et Zou ! SITE &amp; CAP
X-ORIGINAL-URL:http://etzou-sitecap.fr
X-WR-CALDESC:Events for Et Zou ! SITE &amp; CAP
REFRESH-INTERVAL;VALUE=DURATION:PT1H
X-Robots-Tag:noindex
X-PUBLISHED-TTL:PT1H
BEGIN:VTIMEZONE
TZID:Europe/Paris
BEGIN:DAYLIGHT
TZOFFSETFROM:+0100
TZOFFSETTO:+0200
TZNAME:CEST
DTSTART:20250330T010000
END:DAYLIGHT
BEGIN:STANDARD
TZOFFSETFROM:+0200
TZOFFSETTO:+0100
TZNAME:CET
DTSTART:20251026T010000
END:STANDARD
END:VTIMEZONE
BEGIN:VEVENT
DTSTART;TZID=Europe/Paris:20250315T203000
DTEND;TZID=Europe/Paris:20250315T213000
DTSTAMP:20260420T085958
CREATED:20250129T153225Z
LAST-MODIFIED:20250201T093504Z
UID:2387-1742070600-1742074200@etzou-sitecap.fr
SUMMARY:LES DOSSIERS SECRETS DE LA SACEM
DESCRIPTION:STEN & CHARDON\nLes dossiers « secrets » de la SACEM\n \nLes artistes de variété sont notre patrimoine culturel. \nEt pourtant les connaissez-vous si bien ? Dick Rivers comprenait-il l’anglais ?  Brassens est-il vraiment mort et Ferrat repassé ?  Carlos était-il chanteur d’Oasis ? Et Goldman… sax ? \nAvec la rigueur scientifique qui les caractérise et à travers des démonstrations théoriques ou musicales\, les enquêteurs d’élite de la SACEM – Mikael Sten et David Chardon – font la lumière sur la plus grande manipulation de masse de l’histoire de l’humanité : la variété. \n\nUn spectacle à voir avant qu’il ne soit interdit !\n \nÇa commence comme une enquête tout à fait sérieuse. Le décor et les costumes datés nous plongent directement dans un univers digne des films policiers de l’Amérique des années 70. Entre leurs bureaux et le paper board central – réceptacle idéal de leurs preuves et de leurs hypothèses – les deux enquêteurs élaborent leurs théories respectives dans un ping pong haletant. \nTrès vite\, on rit de leurs bêtises. On s’amuse de ce décalage entre l’enjeu du complot et du danger qui en découle – qui donne aux personnages une véritable gravité – et l’objet absurde de leur investigation. L’intrigue avance au rythme des jeux de mots\, des chansons de variété redécouvertes et d’une logique totalement saugrenue. \nUn spectacle décapant mené par deux comédiens – musiciens – chanteurs qui mettent un point d’honneur à fournir aux spectateurs non seulement un texte précis qui s’inscrit dans une intrigue cohérente mais également une exécution exigeante de la musique\, avec une véritable maîtrise vocale et instrumentale. \n\nMise en scène : Lucas Lemauff\, Nicolas Vezzoni\n \n\nInterprètes : Lucas Lemauff\, Nicolas Vezzoni\nhttp://etzou-sitecap.fr/wp-content/uploads/2025/01/Le-teaser.mp4\n  \n\n\n\n\n\n  \nSPECTACLE  MUSICAL TOUS PUBLICS \, à partir de 8 ans\,\nDurée : 60 mn \n  \nUne proposition de l’association Et zou !SITE&CAP  \nen partenariat avec \nla commune et la médiathèque de Pavie  \nParticipation : 12€ / Tarif réduit : 10€ / moins de 18ans  : 8€\nMoins de 8 ans : gratuit ! \nLe samedi 15 mars à 20 h 30 \nnous serons accueillis  à la salle de spectacle de PAVIE à quelques kilomètres au Sud d’Auch \nRENSEIGNEMENTS & RÉSERVATIONS au 05 62 08 43 81 \nassoetzou@gmail.com \npour reserver\, c’est ici : \nreservations Helloasso \npour covoiturer\, c’est ici : \n     https://togetzer.com/index.php?view=organiser&slug=3tbnxr \n 
URL:http://etzou-sitecap.fr/evenement/les-dossiers-secrets-de-la-sacem/
LOCATION:SALLE DE SPECTACLE DE PAVIE\, Rue d'ETIGNY\, PAVIE\, 32550\, France
CATEGORIES:SAR'BI
ATTACH;FMTTYPE=image/png:http://etzou-sitecap.fr/wp-content/uploads/2025/01/affiche-qr-code-PAVIE.png
ORGANIZER;CN="Et%20Zou%21%20SITE%26CAP":MAILTO:assoetzou@gmail.com
END:VEVENT
END:VCALENDAR